BEGIN:VCALENDAR
VERSION:2.0
PRODID:-//wp-events-plugin.com//7.1.7//EN
TZID:Europe/Berlin
X-WR-TIMEZONE:Europe/Berlin
BEGIN:VEVENT
UID:79@smart-workshops.de
DTSTART;TZID=Europe/Berlin:20140408T100000
DTEND;TZID=Europe/Berlin:20140408T173000
DTSTAMP:20140321T114643Z
URL:https://www.smart-workshops.de/termine/basiswissen-social-media-frankf
 urt-8-april-2014/
SUMMARY:Workshop "Basiswissen Social Media" - social media akademie für re
 ise und touristik
DESCRIPTION:Die social media akademie für reise und touristik geht diesen 
 Frühling wieder zusammen mit der TRAVEL ONE auf Tour. Gemeinsam machen wi
 r vom 7.-9. April in den Städten Köln\, Frankfurt am Main und München m
 it Workshops zum Thema "Social Media im Tourismus" halt.\n\nDas Thema Soci
 al Media ist in den letzten Jahren immer wichtiger für die Touristik gewo
 rden. Der Einsatz verschiedener Plattformen durch touristische Unternehmen
  lohnt sich\, um einzelne Angebote gezielt vermarkten zu können und den d
 irekten Dialog mit den Kunden aufzunehmen. Eine Präsenz in den sozialen N
 etzwerken ist heutzutage unabdingbar - auch für Ihr Unternehmen? Und wie 
 und wo setzen Sie Ihre Informationen im Social Web richtig um?\nBeschreibu
 ng\nSocial Media im Tourismus ist mehr als nur Facebook\, Twitter und Goog
 le+. In diesem Workshop erlernen Sie\, welche sozialen Netzwerke es gibt u
 nd welche sich speziell für touristische Unternehmen und Produkte eignen.
  Zudem vermitteln wir Ihnen\, wie Sie einfach und effizient Ihre Aktivitä
 ten in den Sozialen Netzwerken steuern können und was eine Social Media S
 trategie ausmacht.\nInhalt\n\n	Was ist Social Media und weshalb ist es kei
 n Hype\n	Social Media und Tourismus - Aktuelle Zahlen und Analysen\n	Wie v
 erändert Social Media das klassische Marketing\n	Wie sieht ein strategisc
 her Social Media Einstieg aus\n	Wie kann ich meine Social Media Maßnahmen
  überwachen\n	Facebook\, Twitter\, Google+ – Was ist für Tourismus-Bet
 riebe relevant\n	Wie bewerbe ich mein touristisches Angebot auf Facebook\n
 	Was ist der Facebook Social Graph und was bedeutet das für den Tourismus
 \n	Pinterest\, Instagram\, Vine - Wie profitieren Tourismus-Betriebe von F
 otos und Videos in Social Media\n	Geo-Dienste\, Mobile Apps – Wo geht es
  für die Tourismus-Branche hin\n	Welche Best-Practice-Beispiele gibt es a
 us der Tourismus-Branche\n\nAblauf\n\n	09:30 Uhr Begrüßungskaffee\n	10:0
 0 Uhr Beginn\n	10:00-11:30 Uhr 1. Schulungsblock\nVorstellung des Ablaufs 
 des Seminars\nVorstellung des Referenten\nVorstellung und Einführung in d
 as Thema\n	11:30-11:45 Uhr Pause\n	11:45-13:00 Uhr 2. Schulungsblock\n	13:
 00-14:00 Uhr Mittagspause\n	14:00-16:00 Uhr 3. Schulungsblock\n	16:00-16:1
 5 Uhr Pause\n	16:15-17:30 Uhr 4. Schulungsblock\n	17:30 Uhr Ende\n\nVortei
 le\nSie erfahren grundlegend\, was im Bereich Social Media für Sie als To
 uristiker wichtig ist. Durch eine kleine Gruppe bleibt viel Zeit um alle I
 hre Fragen rund um das Thema Social Media zu beantworten.\nZiele\nErhalten
  Sie einen generellen Überblick über die verschiedenen Instrumente des S
 ocial Media Marketings und wie Sie diese als Touristiker für sich nutzen 
 können.\nAn wen richtet sich dieser Workshop\nDer Workshop richtet sich a
 n Mitarbeiter und (Social Media-) Marketingverantwortliche von Fremdenverk
 ehrsämtern und Destinationen\, Reiseveranstaltern\, Airlines\, Hotels\, P
 R-Agenturen sowie sonstige Dienstleister aus dem Tourismus mit generellem 
 Informationsbedarf im Bereich Social Media.\nReferent\nJoachim Schmidt\n(I
 nhaber von Intensive Senses | Manufaktur für digitales Marketing)\n\nSeit
  über 18 Jahren ist Joachim Schmidt nun schon im Internet und den Neuen
  Medien zuhause. Im April 2008 gründete er Intensive Senses\, eine inhabe
 rgeführte Agentur für digitales Marketing aus Berlin\, die vor allem Kun
 den aus dem touristischen Bereich bei der Planung und Umsetzung von Websei
 ten\, Social Media Profilen und Online Marketing Maßnahmen berät und unt
 erstützt.\nLeistungen\nSchulung von 10-17:30 Uhr mit Frühstücks-\, Mitt
 ags- und Nachmittagspause. Tagungsgetränke und Mahlzeiten inklusive. Basi
 swissen Social Media
ATTACH;FMTTYPE=image/jpeg:https://www.smart-workshops.de/wp-content/upload
 s/2013/11/titel_socialmedia.jpg
CATEGORIES:Basiswissen Social Media,Social Media Frühlingstour
LOCATION:Station Lounge\, Am Hauptbahnhof 10\, Frankfurt a.M.
GEO:50.1079;8.66514
X-APPLE-STRUCTURED-LOCATION;VALUE=URI;X-ADDRESS=Am Hauptbahnhof 10\, Frankf
 urt a.M.\, Hessen\, 60329\, Deutschland;X-APPLE-RADIUS=100;X-TITLE=Station
  Lounge:geo:50.1079,8.66514
END:VEVENT
BEGIN:VTIMEZONE
TZID:Europe/Berlin
X-LIC-LOCATION:Europe/Berlin
BEGIN:DAYLIGHT
DTSTART:20140330T030000
TZOFFSETFROM:+0100
TZOFFSETTO:+0200
TZNAME:CEST
END:DAYLIGHT
END:VTIMEZONE
END:VCALENDAR