BEGIN:VCALENDAR
VERSION:2.0
PRODID:-//wp-events-plugin.com//7.1.7//EN
TZID:Europe/Berlin
X-WR-TIMEZONE:Europe/Berlin
BEGIN:VEVENT
UID:83@smart-workshops.de
DTSTART;TZID=Europe/Berlin:20160524T100000
DTEND;TZID=Europe/Berlin:20160524T173000
DTSTAMP:20160509T104747Z
URL:https://www.smart-workshops.de/termine/instagram-im-tourismus-frankfur
 t/
SUMMARY:Workshop "Instagram im Tourismus" - social media akademie für reis
 e und touristik
DESCRIPTION:Die social media akademie für reise und touristik veranstaltet
  am 24. Mai in Frankfurt zusammen mit Anja Beckmann von Travel on Toast zu
 m ersten Mal einen Workshop zum Thema „Instagram im Tourismus“.\nBesch
 reibung\nIn diesem praxisorientierten Workshop erhalten Touristiker alle n
 otwendigen Grundlagen zu Instagram im Tourismus und erfahren\, wie man mit
  Hilfe dieses Social Media Kanals potenzielle Kunden und Gäste anspricht.
  In einem besonderen Praxisteil des Workshops wird der Gebrauch von Instag
 ram intensiviert.\nInhalt\n•	Zahlen und Fakten zu Instagram \n•	Unters
 chiede zu Facebook\, Twitter\, Pinterest und Snapchat\n•	Strategie: Welc
 he Ziele und Zielgruppen erreiche ich über Instagram?\n•	Wie funktionie
 rt die Instagram App?\n•	Instagram Profil einrichten\n•	Wie gewinne ic
 h Fans für meinen Account?\n•	Wie sehen erfolgreiche Bilder und Videos 
 aus?\n•	Welche Hashtags soll ich nutzen?\n•	Storytelling & User Genera
 ted Content \n•	Wie fördere ich die Interaktion?\n•	Wie gehe ich mit 
 Kritik um?\n•	Instagram-Werbeanzeigen\n•	Wie kann ich mit Instagramern
  und Bloggern arbeiten\, die Instagram nutzen? \n•	Kampagnen\, Challenge
 s & Instawalks\n•	Erfolge messen\n•	Best & Bad Practices für Instagra
 m im Tourismus\n\nAblauf\n\n	09:30 Uhr Begrüßungskaffee\n	10:00 Uhr Begi
 nn\n	10:00-11:30 Uhr 1. Schulungsblock\nVorstellung des Ablaufs des Semina
 rs\nVorstellung des Referenten\nVorstellung und Einführung in das Thema\n
 	11:30-11:45 Uhr Pause\n	11:45-13:00 Uhr 2. Schulungsblock\n	13:00-14:00 U
 hr Mittagspause\n	14:00-16:00 Uhr 3. Schulungsblock\n	16:00-16:15 Uhr Paus
 e\n	16:15-17:30 Uhr 4. Schulungsblock\n	17:30 Uhr Ende\n\nVorteile\nSie er
 fahren grundlegend\, wie Ihnen als Touristiker Instagram als Marketingtool
  hilft.\nZiele\nErhalten Sie einen generellen Überblick darüber\, was In
 stagram im Marketingbereich bietet und wie Sie es als Touristiker für sic
 h nutzen können.\nAn wen richtet sich dieser Workshop\nDer Workshop richt
 et sich an Mitarbeiter und (Online-)Marketingverantwortliche von Fremdenve
 rkehrsämtern und Destinationen\, Reiseveranstaltern\, Airlines\, Hotels\,
  PR-Agenturen sowie sonstige Dienstleister aus dem Tourismus mit generelle
 m Informationsbedarf zum Thema Instagram (ohne Vorkenntnisse). Die Teilneh
 mer sollten die App für das Seminar auf ihren Smartphones installiert hab
 en.\nReferent\n(Beraterin für Social Media\, Blogs und Blogger Relations)
 \n\nAnja Beckmann ist Beraterin\, außerdem führt sie mit www.travelontoa
 st.de eines der erfolgreichsten deutschsprachigen Reiseblogs. Von ihren Re
 isen berichtet sie auf Instagram\, außerdem berät sie Kunden zu diesem T
 hema.\n\nSie ist als Journalistin gestartet\, danach war sie als PR-Berate
 rin und Pressesprecherin tätig. Seit 6 Jahren unterstützt sie als freie 
 Mitarbeiterin namhafte Unternehmen und Agenturen im Tourismusbereich.\n\nw
 ww.anjabeckmann.de\n\nLeistungen\nSchulung von 10-17:30 Uhr mit Frühstüc
 ks-\, Mittags- und Nachmittagspause. Tagungsgetränke und Mahlzeiten inklu
 sive. Instagram im Tourismus
ATTACH;FMTTYPE=image/jpeg:https://www.smart-workshops.de/wp-content/upload
 s/2013/11/titel_instagram.jpg
CATEGORIES:Instagram im Tourismus
LOCATION:Station Lounge\, Am Hauptbahnhof 10\, Frankfurt a.M.
GEO:50.1079;8.66514
X-APPLE-STRUCTURED-LOCATION;VALUE=URI;X-ADDRESS=Am Hauptbahnhof 10\, Frankf
 urt a.M.\, Hessen\, 60329\, Deutschland;X-APPLE-RADIUS=100;X-TITLE=Station
  Lounge:geo:50.1079,8.66514
END:VEVENT
BEGIN:VTIMEZONE
TZID:Europe/Berlin
X-LIC-LOCATION:Europe/Berlin
BEGIN:DAYLIGHT
DTSTART:20160327T030000
TZOFFSETFROM:+0100
TZOFFSETTO:+0200
TZNAME:CEST
END:DAYLIGHT
END:VTIMEZONE
END:VCALENDAR